BEGIN:VCALENDAR
VERSION:2.0
PRODID:-//Project Yumi - ECPv6.15.3//NONSGML v1.0//EN
CALSCALE:GREGORIAN
METHOD:PUBLISH
X-ORIGINAL-URL:https://projectyumi.org
X-WR-CALDESC:Events for Project Yumi
REFRESH-INTERVAL;VALUE=DURATION:PT1H
X-Robots-Tag:noindex
X-PUBLISHED-TTL:PT1H
BEGIN:VTIMEZONE
TZID:Australia/Melbourne
BEGIN:STANDARD
TZOFFSETFROM:+1100
TZOFFSETTO:+1000
TZNAME:AEST
DTSTART:20240406T160000
END:STANDARD
BEGIN:DAYLIGHT
TZOFFSETFROM:+1000
TZOFFSETTO:+1100
TZNAME:AEDT
DTSTART:20241005T160000
END:DAYLIGHT
END:VTIMEZONE
BEGIN:VEVENT
DTSTART;VALUE=DATE:20240706
DTEND;VALUE=DATE:20240707
DTSTAMP:20260424T010911
CREATED:20240529T101633Z
LAST-MODIFIED:20240529T101633Z
UID:3285-1720224000-1720310399@projectyumi.org
SUMMARY:PAPUA NEW GUINEA CLEANING CAMPAIGN
DESCRIPTION:IT IS TO SUPPORT THE PEOPLE BACK IN PAPUA NEW GUINEA. YOUR LITTLE EFFORT CAN MAKE HUGE DIFFERENCE IN SOMEONE’S LIFE.
URL:https://projectyumi.org/event/papua-new-guinea-cleaning-campaign/
LOCATION:Kings Own Institute\, 17 O’Connell Street\, Sydney\, NSW\, Australia
CATEGORIES:Volunteering
ATTACH;FMTTYPE=image/png:https://projectyumi.org/wp-content/uploads/2024/05/Screenshot-2024-05-08-at-11.22.59 PM.png
END:VEVENT
BEGIN:VEVENT
DTSTART;VALUE=DATE:20240628
DTEND;VALUE=DATE:20240629
DTSTAMP:20260424T010911
CREATED:20240410T101143Z
LAST-MODIFIED:20240527T114129Z
UID:2446-1719532800-1719619199@projectyumi.org
SUMMARY:HEALTHCARE EQUIPMENT DISTRIBUTION DRIVE
DESCRIPTION:Volunteer your time to assist in the distribution of high-quality educational and medical supplies to underserved health facilities and schools across Papua New Guinea. Help ensure that essential resources reach those who need them most and contribute to improving access to quality education and healthcare services.
URL:https://projectyumi.org/event/healthcare-equipment-distribution-drive/
LOCATION:Kings Own Institute\, 17 O’Connell Street\, Sydney\, NSW\, Australia
CATEGORIES:Volunteering
ATTACH;FMTTYPE=image/jpeg:https://projectyumi.org/wp-content/uploads/2024/05/06aab6ef-8348-4591-8ba8-ee1f4064d760.jpg
ORGANIZER;CN="Nikita Thakuri":MAILTO:122222@email.com
END:VEVENT
BEGIN:VEVENT
DTSTART;TZID=Australia/Melbourne:20240627T080000
DTEND;TZID=Australia/Melbourne:20240731T170000
DTSTAMP:20260424T010911
CREATED:20240507T102510Z
LAST-MODIFIED:20240527T113743Z
UID:2716-1719475200-1722445200@projectyumi.org
SUMMARY:PAPUA NEW GUINEA TOUR
DESCRIPTION:Events to remove the inequalities faced by the people of Papua New Guinea. Together we can make a great impact in their lives.
URL:https://projectyumi.org/event/papua-new-guinea-tour/
LOCATION:Kings Own Institute\, 17 O’Connell Street\, Sydney\, NSW\, Australia
CATEGORIES:Volunteering
ATTACH;FMTTYPE=image/png:https://projectyumi.org/wp-content/uploads/2024/03/Screen-Shot-2024-03-26-at-10.44.13-am.png
ORGANIZER;CN="Nikita Thakuri":MAILTO:122222@email.com
END:VEVENT
BEGIN:VEVENT
DTSTART;VALUE=DATE:20240620
DTEND;VALUE=DATE:20240621
DTSTAMP:20260424T010911
CREATED:20240410T092055Z
LAST-MODIFIED:20240527T113958Z
UID:2441-1718841600-1718927999@projectyumi.org
SUMMARY:YOUTH EMPOWERMENT SUMMIT
DESCRIPTION:Unlock your full potential at our Youth Empowerment Summit! This dynamic event brings together young leaders from across Papua New Guinea for inspiring keynote speeches\, interactive workshops\, and networking opportunities. Gain valuable skills in leadership\, entrepreneurship\, and social activism while connecting with like-minded peers committed to driving positive change in their communities.
URL:https://projectyumi.org/event/youth-empowerment-summit/
LOCATION:Kings Own Institute\, 17 O’Connell Street\, Sydney\, NSW\, Australia
CATEGORIES:Volunteering
ATTACH;FMTTYPE=image/jpeg:https://projectyumi.org/wp-content/uploads/2024/04/JOIN-OUR-TEAM-.jpg
END:VEVENT
BEGIN:VEVENT
DTSTART;TZID=Australia/Melbourne:20240606T073000
DTEND;TZID=Australia/Melbourne:20240709T170000
DTSTAMP:20260424T010911
CREATED:20240523T103943Z
LAST-MODIFIED:20240523T103943Z
UID:3233-1717659000-1720544400@projectyumi.org
SUMMARY:PROJECT SKULL
DESCRIPTION:Support our project skull where you can donate the school materials to the students in Papua New Guinea.
URL:https://projectyumi.org/event/project-skull/
LOCATION:Kings Own Institute\, 17 O’Connell Street\, Sydney\, NSW\, Australia
CATEGORIES:Volunteering
ATTACH;FMTTYPE=image/jpeg:https://projectyumi.org/wp-content/uploads/2024/05/8F854167-18E7-47AB-8127-BC5E486AA22A-scaled.jpeg
END:VEVENT
BEGIN:VEVENT
DTSTART;VALUE=DATE:20240606
DTEND;VALUE=DATE:20240607
DTSTAMP:20260424T010911
CREATED:20240507T091830Z
LAST-MODIFIED:20240527T113824Z
UID:2713-1717632000-1717718399@projectyumi.org
SUMMARY:WOMEN EMPOWERMENT INITATIVES
DESCRIPTION:
URL:https://projectyumi.org/event/women-empowerment-initiatives/
LOCATION:NSW
CATEGORIES:Volunteering
ATTACH;FMTTYPE=image/jpeg:https://projectyumi.org/wp-content/uploads/2024/04/c20272fc-4c5d-4eae-9f18-0cea44e7c527.jpg
END:VEVENT
END:VCALENDAR